Workbook
Name global_mitigation: 'GHG''s'!$B$47

Sheet Summary
B1: CARBON TAX 5-SECTOR MODEL | I1: This version of the model was created on: | J1: 40823 | AN1: =ROW() -> 1
L2: Before you begin, please take these 7 quick steps to ensure that your Excel program can handle the mathematical interactivity built into the model. | AN2: =ROW() -> 2
B3: Created for the Carbon Tax Center by Charles Komanoff | AN3: =ROW() -> 3
AN4: =ROW() -> 4
B5: CARBON TAX 5-SECTOR MODEL by Charles Komanoff is licensed under a Creative Commons Attribution-NonCommercial 3.0 Unported License. | L5: If you're running Excel-2007 or later: | AN5: =ROW() -> 5
L6: 1 | M6: Click the Microsoft Office Button in the far upper left-hand corner of your screen. | AN6: =ROW() -> 6
L7: 2 | M7: A new window will appear on your screen. At the very bottom of the window, click Excel Options. | AN7: =ROW() -> 7
B8: For more on the Carbon Tax Center, visit <http://www.carbontax.org/>. To reach Komanoff, write to kea@igc.org. | L8: 3 | M8: In left-hand column, near the top, click Formulas. | AN8: =ROW() -> 8
L9: 4 | M9: In Calculation options section, select Enable iterative calculation check box. | AN9: =ROW() -> 9
B10: This version of the model is set up (pre-inputted) for a carbon tax that begins at $15 per ton of carbon dioxide (CO2) and increments by $12.50 per ton per year. These inputs correspond to the Larson bill introduced by Connecticut Rep. John Larson in 2009. Initial amount and increment rate can be changed at the user's command, as discussed below. | L10: 5 | M10: Set maximum number of iterations to 100. | AN10: =ROW() -> 10
L11: 6 | M11: Set maximum change box to 0.001. | AN11: =ROW() -> 11
L12: 7 | M12: Press OK at the bottom. | AN12: =ROW() -> 12
B13: For links to Larson bill and CTC's perspective, go to: <http://bit.ly/1TwcH4>. | L13: If you're running Excel-2003 or earlier: | AN13: =ROW() -> 13
L14: 1 | M14: Go to Excel Options, which should be in your Excel toolbar under the Tools menu choice. | AN14: =ROW() -> 14
B15: =CONCATENATE("To bypass Summary explanations and run model immediately with your inputs, Scroll Down to Row ",AN76, " and follow instructions.") -> To bypass Summary explanations and run model immediately with your inputs, Scroll Down to Row 76 and follow instructions. | G15: =CONCATENATE("For results, see Row ",AN101, ". Key results are in cells H",AN105, " and ",AN106, ". For graph of CO2 reductions over time, go to worksheet tab 'Graph_CO2'.") -> For results, see Row 101. Key results are in cells H105 and 106. For graph of CO2 reductions over time, go to worksheet tab 'Graph_CO2'. | L15: 2 | M15: Click on Options, and navigate to the tab called Calculation. | AN15: =ROW() -> 15
L16: 3 | M16: Under Calculation options, select Iterations check box (may be called Enable iterative calculation). | AN16: =ROW() -> 16
L17: 4 | M17: Set the maximum number of iterations to 100. | Q17: Why? Since the model is written dynamically and interactively, you must configure Excel to feed cell outputs back into other cells. Otherwise, the model will return "circular formulas" with blank or incorrect results. | AN17: =ROW() -> 17
L18: 5 | M18: Set the maximum change box to 0.001. | AN18: =ROW() -> 18
L19: 6 | M19: Press OK and begin. | AN19: =ROW() -> 19
B20: Summary | L20: Great. You should now be ready to go. | AN20: =ROW() -> 20
AN21: =ROW() -> 21
B22: This spreadsheet models the impacts of a federal carbon tax on U.S. fuel use, carbon emissions and revenues, using a model that divides carbon emissions into 5 sectors: Electricity, Personal Ground Travel, Freight, Aviation, and Other. | AN22: =ROW() -> 22
AN23: =ROW() -> 23
AN24: =ROW() -> 24
B25: It calculates the reductions in U.S. carbon dioxide emissions that would result from implementing either a "straight" carbon tax (levied on on the carbon contents of coal, oil and natural gas) or a "hybrid carbon tax" that would overly a per-gallon tax on selected petroleum products (e.g., gasoline and aviation fuel) atop the straight carbon tax. | AN25: =ROW() -> 25
AN26: =ROW() -> 26
AN27: =ROW() -> 27
AN28: =ROW() -> 28
B29: The user selects levels of both taxes below. Setting the extra petrol tax to zero eliminates hybrid aspect. Note that the model cannot explicitly model effects of supplemental, "exogenous" measures to reduce carbon emissions (e.g., energy-efficiency standards, renewable-energy mandates, direct USEPA regulation of carbon emissions). | AN29: =ROW() -> 29
AN30: =ROW() -> 30
AN31: =ROW() -> 31
AN32: =ROW() -> 32
B33: About the organization of this spreadsheet | AN33: =ROW() -> 33
AN34: =ROW() -> 34
B35: There are 12 worksheets, including this one. | AN35: =ROW() -> 35
AN36: =ROW() -> 36
B37: Summary | C37: This worksheet. It prints to six pages (of which one is blank). | AN37: =ROW() -> 37
AN38: =ROW() -> 38
B39: Parameters | C39: Specifies key variables and conversion factors that inform (affect) some calculations. | AN39: =ROW() -> 39
AN40: =ROW() -> 40
...

Sheet Parameters
B1: Parameters | K1: =Summary!J1 -> 40823 | O1: =ROW() -> 1
O2: =ROW() -> 2
O3: =ROW() -> 3
B4: Key Variables | O4: =ROW() -> 4
O5: =ROW() -> 5
B6: Economic Growth Rate (GDP) | O6: =ROW() -> 6
B7: 2011 over 2010 (the actual increase rate of 1H 2011 vs. 1H 2010) | J7: 0.013 | O7: =ROW() -> 7
B8: 2012 over 2011 (Komanoff projection) | J8: 0.015 | O8: =ROW() -> 8
B9: All other years (Komanoff projection) | J9: 0.02 | O9: =ROW() -> 9
O10: =ROW() -> 10
O11: =ROW() -> 11
B12: Constants / Conversion Factors | O12: =ROW() -> 12
O13: =ROW() -> 13
B14: Pounds of CO2 per pound of carbon | J14: =44/12 -> 3.6666667 | O14: =ROW() -> 14
B15: Pounds per metric ton | J15: 2205 | O15: =ROW() -> 15
B16: Pounds per short ton | J16: 2000 | O16: =ROW() -> 16
B17: Grams per pound | J17: 453.59237 | O17: =ROW() -> 17
B18: Gallons per barrel | J18: 42 | O18: =ROW() -> 18
B19: Days in year (we ignore leap years) | J19: 365 | O19: =ROW() -> 19
O20: =ROW() -> 20
O21: =ROW() -> 21
B22: GDP (billions of chained 2005 dollars) | O22: =ROW() -> 22
B23: 2000-2010 data were downloaded from http://www.bea.gov/bea/dn/gdplev.xls (accessed from http://www.bea.gov/index.htm). 2011 growth rate from 2010 compares 1Q+2Q of respective years. | O23: =ROW() -> 23
O24: =ROW() -> 24
D25: Yr-on-yr Ratio | O25: =ROW() -> 25
B26: 2000 | C26: 11226 | O26: =ROW() -> 26
B27: 2001 | C27: 11347.2 | D27: =C27/C26 -> 1.0107964 | O27: =ROW() -> 27
B28: 2002 | C28: 11553 | D28: =C28/C27 -> 1.0181366 | O28: =ROW() -> 28
B29: 2003 | C29: 11840.7 | D29: =C29/C28 -> 1.0249026 | O29: =ROW() -> 29
B30: 2004 | C30: 12263.8 | D30: =C30/C29 -> 1.0357327 | O30: =ROW() -> 30
B31: 2005 | C31: 12638.4 | D31: =C31/C30 -> 1.0305452 | O31: =ROW() -> 31
B32: 2006 | C32: 12976.2 | D32: =C32/C31 -> 1.0267281 | O32: =ROW() -> 32
B33: 2007 | C33: 13228.9 | D33: =C33/C32 -> 1.0194741 | O33: =ROW() -> 33
B34: 2008 | C34: 13228.8 | D34: =C34/C33 -> 0.99999244 | O34: =ROW() -> 34
B35: 2009 | C35: 12880.6 | D35: =C35/C34 -> 0.97367864 | O35: =ROW() -> 35
B36: 2010 | C36: 13248.2 | D36: =C36/C35 -> 1.028539 | O36: =ROW() -> 36
B37: 2011 | D37: 1.0189335 | O37: =ROW() -> 37
O38: =ROW() -> 38
O39: =ROW() -> 39
B40: Elasticities (documentation of this section, to come) | O40: =ROW() -> 40
...

Sheet Electricity
B1: Electricity | M1: =Summary!J1 -> 40823 | AO1: =ROW() -> 1
AO2: =ROW() -> 2
B3: This page pertains only to Electricity. Succeeding pages show Personal Ground Travel, Freight, Aviation, and Other Sectors. | K3: Figures in column apply either to 2007 or throughout. | L3: Figures in column correspond to actual data. | M3: Figures in column correspond to actual data. | N3: Same as for 2009, except baseline emissions for these two years are estimated. | P3: This and later years pivot off first tax year. | AO3: =ROW() -> 3
AO4: =ROW() -> 4
AO5: =ROW() -> 5
AO6: =ROW() -> 6
B7: Note: This worksheet is pre-formatted to print to six pages. Print area extends only to 2030. | K7: 2007 | L7: 2008 | M7: 2009 | N7: 2010 | O7: 2011 | P7: =Summary!P115 -> 2012 | Q7: =P7+1 -> 2013 | R7: =Q7+1 -> 2014 | S7: =R7+1 -> 2015 | T7: =S7+1 -> 2016 | U7: =T7+1 -> 2017 | V7: =U7+1 -> 2018 | W7: =V7+1 -> 2019 | X7: =W7+1 -> 2020 | ... AL7: =AK7+1 -> 2034 | AO7: =ROW() -> 7
AO8: =ROW() -> 8
B9: Parameters that pivot directly off assumptions in Summary worksheet are shown in blue. | AO9: =ROW() -> 9
B10: Key parameters that user may specify here (in this worksheet) are shown in magenta. | AO10: =ROW() -> 10
B11: Initial carbon tax per ton of CO2 emitted | I11: =Summary!$J$76 -> 10 | J11: =CONCATENATE("Do not type in two boxes at left. Quantities in those boxes are inputted automatically from Cells I",Summary!$AN$76,", I",Summary!$AN$78,", I",Summary!$AN$80,", and I",Summary!$AN$85," in 'Summary' worksheet. ",) -> Do not type in two boxes at left. Quantities in those boxes are inputted automatically from Cells I76, I78, I80, and I85 in 'Summary' worksheet. | AO11: =ROW() -> 11
B12: Annual tax increment per ton of CO2 emitted; OR Annual % growth | I12: =IF(Summary!J78=1,MAX(Summary!J80, 0.0001),Summary!J85) -> 0.1 | AO12: =ROW() -> 12
B13: =CONCATENATE("Note: Cell H",AO12, " is formulated as greater of (i) value entered in Summary, and (ii) 0.0001, to allow carbon tax rate to be set to zero; otherwise, zero would appear in denominator of some cells.") -> Note: Cell H12 is formulated as greater of (i) value entered in Summary, and (ii) 0.0001, to allow carbon tax rate to be set to zero; otherwise, zero would appear in denominator of some cells. | AO13: =ROW() -> 13
AO14: =ROW() -> 14
B15: =CONCATENATE("Is year at top of column equal to or greater than tax-start year (which was inputted in Summary tab, Cell H",Summary!$AN$98, ")?") -> Is year at top of column equal to or greater than tax-start year (which was inputted in Summary tab, Cell H98)? | M15: =IF(M$7>=Summary!$J98,"YES","NO") -> NO | N15: =IF(N$7>=Summary!$J98,"YES","NO") -> NO | O15: =IF(O$7>=Summary!$J98,"YES","NO") -> NO | P15: =IF(P$7>=Summary!$J98,"YES","NO") -> YES | Q15: =IF(Q$7>=Summary!$J98,"YES","NO") -> YES | R15: =IF(R$7>=Summary!$J98,"YES","NO") -> YES | S15: =IF(S$7>=Summary!$J98,"YES","NO") -> YES | T15: =IF(T$7>=Summary!$J98,"YES","NO") -> YES | ... AL15: =IF(AL$7>=Summary!$J98,"YES","NO") -> YES | AO15: =ROW() -> 15
B16: =CONCATENATE("Is year at top of column equal to or greater than final tax year (which was inputted in Summary tab, Cell H",Summary!$AN$110, ")?") -> Is year at top of column equal to or greater than final tax year (which was inputted in Summary tab, Cell H110)? | M16: =IF(M$7>Summary!$J99,"YES","NO") -> NO | N16: =IF(N$7>Summary!$J99,"YES","NO") -> NO | O16: =IF(O$7>Summary!$J99,"YES","NO") -> NO | P16: =IF(P$7>Summary!$J99,"YES","NO") -> NO | Q16: =IF(Q$7>Summary!$J99,"YES","NO") -> NO | R16: =IF(R$7>Summary!$J99,"YES","NO") -> NO | S16: =IF(S$7>Summary!$J99,"YES","NO") -> NO | T16: =IF(T$7>Summary!$J99,"YES","NO") -> NO | ... AL16: =IF(AL$7>Summary!$J99,"YES","NO") -> YES | AO16: =ROW() -> 16
B17: Effective tax year, number | M17: =IF(M15="NO",0,(IF(AND(M15="YES",M16="NO"),L17+1,L17))) -> 0 | N17: =IF(N15="NO",0,(IF(AND(N15="YES",N16="NO"),M17+1,M17))) -> 0 | O17: =IF(O15="NO",0,(IF(AND(O15="YES",O16="NO"),N17+1,N17))) -> 0 | P17: =IF(P15="NO",0,(IF(AND(P15="YES",P16="NO"),O17+1,O17))) -> 1 | Q17: =IF(Q15="NO",0,(IF(AND(Q15="YES",Q16="NO"),P17+1,P17))) -> 2 | R17: =IF(R15="NO",0,(IF(AND(R15="YES",R16="NO"),Q17+1,Q17))) -> 3 | S17: =IF(S15="NO",0,(IF(AND(S15="YES",S16="NO"),R17+1,R17))) -> 4 | T17: =IF(T15="NO",0,(IF(AND(T15="YES",T16="NO"),S17+1,S17))) -> 5 | ... AL17: =IF(AL15="NO",0,(IF(AND(AL15="YES",AL16="NO"),AK17+1,AK17))) -> 15 | AO17: =ROW() -> 17
B18: Tax in year shown, per ton of CO2 emitted | M18: =IF(Summary!$J78=1,MAX(0,$I$11*MIN(1,M17)+$I$12*(M17-1)),IF(M17=0,0,($I$11*(1+$I$12)^(M17-1)))) -> 0 | N18: =IF(Summary!$J78=1,MAX(0,$I$11*MIN(1,N17)+$I$12*(N17-1)),IF(N17=0,0,($I$11*(1+$I$12)^(N17-1)))) -> 0 | O18: =IF(Summary!$J78=1,MAX(0,$I$11*MIN(1,O17)+$I$12*(O17-1)),IF(O17=0,0,($I$11*(1+$I$12)^(O17-1)))) -> 0 | P18: =IF(Summary!$J78=1,MAX(0,$I$11*MIN(1,P17)+$I$12*(P17-1)),IF(P17=0,0,($I$11*(1+$I$12)^(P17-1)))) -> 10 | Q18: =IF(Summary!$J78=1,MAX(0,$I$11*MIN(1,Q17)+$I$12*(Q17-1)),IF(Q17=0,0,($I$11*(1+$I$12)^(Q17-1)))) -> 11 | R18: =IF(Summary!$J78=1,MAX(0,$I$11*MIN(1,R17)+$I$12*(R17-1)),IF(R17=0,0,($I$11*(1+$I$12)^(R17-1)))) -> 12.1 | S18: =IF(Summary!$J78=1,MAX(0,$I$11*MIN(1,S17)+$I$12*(S17-1)),IF(S17=0,0,($I$11*(1+$I$12)^(S17-1)))) -> 13.31 | T18: =IF(Summary!$J78=1,MAX(0,$I$11*MIN(1,T17)+$I$12*(T17-1)),IF(T17=0,0,($I$11*(1+$I$12)^(T17-1)))) -> 14.641 | ... AL18: =IF(Summary!$J78=1,MAX(0,$I$11*MIN(1,AL17)+$I$12*(AL17-1)),IF(AL17=0,0,($I$11*(1+$I$12)^(AL17-1)))) -> 37.974983 | AO18: =ROW() -> 18
B19: Tax in year shown, per metric ton of carbon dioxide emitted | M19: =M18*Parameters!$J$15/2000 -> 0 | N19: =N18*Parameters!$J$15/2000 -> 0 | O19: =O18*Parameters!$J$15/2000 -> 0 | P19: =P18*Parameters!$J$15/2000 -> 11.025 | Q19: =Q18*Parameters!$J$15/2000 -> 12.1275 | R19: =R18*Parameters!$J$15/2000 -> 13.34025 | S19: =S18*Parameters!$J$15/2000 -> 14.674275 | T19: =T18*Parameters!$J$15/2000 -> 16.141703 | ... AL19: =AL18*Parameters!$J$15/2000 -> 41.867419 | AO19: =ROW() -> 19
I20: 2005 | K20: =K7 -> 2007 | L20: =L7 -> 2008 | M20: =M7 -> 2009 | N20: =N7 -> 2010 | O20: =O7 -> 2011 | P20: =P7 -> 2012 | Q20: =Q7 -> 2013 | R20: =R7 -> 2014 | ... AL20: =AL7 -> 2034 | AO20: =ROW() -> 20
B21: Average Retail Price of Electricity (cents/kWh), with carbon tax | M21: 9.82 | N21: 9.88 | O21: =N21 -> 9.88 | P21: =$O21+P54 -> 10.497275 | Q21: =$O21+Q54 -> 10.55175 | R21: =$O21+R54 -> 10.610806 | S21: =$O21+S54 -> 10.674784 | T21: =$O21+T54 -> 10.744039 | U21: =$O21+U54 -> 10.818941 | V21: =$O21+V54 -> 10.899876 | W21: =$O21+W54 -> 10.987234 | ... AL21: =$O21+AL54 -> 11.696964 | AO21: =ROW() -> 21
B22: =CONCATENATE("2009 and 2010 prices are from Monthly Energy Review, T09.09, downloaded 20-Sept-11. 2011 is assumed to match 2010. Later years increment 2011 figure with carbon charge increment from Row ",AO54, ". In effect, carbon charge is assumed to be only factor affecting electricity prices. Note also that carbon charge increments decline over time due to assumed reduction in carbon intensity of electricity resulting from carbon tax. ") -> 2009 and 2010 prices are from Monthly Energy Review, T09.09, downloaded 20-Sept-11. 2011 is assumed to match 2010. Later years increment 2011 figure with carbon charge increment from Row 54. In effect, carbon charge is assumed to be only factor affecting electricity prices. Note also that carbon charge increments decline over time due to assumed reduction in carbon intensity of electricity resulting from carbon tax. | AO22: =ROW() -> 22
AO23: =ROW() -> 23
N24: =N7 -> 2010 | O24: =O7 -> 2011 | P24: =P7 -> 2012 | Q24: =Q7 -> 2013 | R24: =R7 -> 2014 | S24: =S7 -> 2015 | T24: =T7 -> 2016 | U24: =U7 -> 2017 | ... AL24: =AL7 -> 2034 | AO24: =ROW() -> 24
B25: U.S. electricity end use (TWh), without carbon tax | I25: =3810984.044/1000 -> 3810.984 | K25: =3890230.897/1000 -> 3890.2309 | M25: =3723802.824/1000 -> 3723.8028 | N25: =3884422.961/1000 -> 3884.423 | O25: =N25*1.00821354115528 -> 3916.3278 | P25: =O25*(1+Parameters!J8)^Parameters!$G$42*((1+Parameters!$J$9)^Parameters!$G$42)^(P7-2012) -> 3960.3044 | Q25: =P25*(1+Parameters!$J$9)^Parameters!$G$42 -> 4019.5617 | R25: =Q25*(1+Parameters!$J$9)^Parameters!$G$42 -> 4079.7056 | S25: =R25*(1+Parameters!$J$9)^Parameters!$G$42 -> 4140.7495 | T25: =S25*(1+Parameters!$J$9)^Parameters!$G$42 -> 4202.7067 | U25: =T25*(1+Parameters!$J$9)^Parameters!$G$42 -> 4265.591 | V25: =U25*(1+Parameters!$J$9)^Parameters!$G$42 -> 4329.4163 | W25: =V25*(1+Parameters!$J$9)^Parameters!$G$42 -> 4394.1965 | X25: =W25*(1+Parameters!$J$9)^Parameters!$G$42 -> 4459.946 | ... AL25: =AK25*(1+Parameters!$J$9)^Parameters!$G$42 -> 5490.7466 | AO25: =ROW() -> 25
B26: =CONCATENATE("2005-2010 figures are from EIA/MER, Table 7.06. 2011 figure prorates 2010 by % increase between first 5 months of respective years. Figures for 2012 apply income-elasticity for electricity given in Parameters page, Row ",Parameters!$O$42," to assumed GDP growth rates given in Rows ",Parameters!$O$7, " and ",Parameters!$O$8, " from same tab.") -> 2005-2010 figures are from EIA/MER, Table 7.06. 2011 figure prorates 2010 by % increase between first 5 months of respective years. Figures for 2012 apply income-elasticity for electricity given in Parameters page, Row 42 to assumed GDP growth rates given in Rows 7 and 8 from same tab. | AO26: =ROW() -> 26
AO27: =ROW() -> 27
AO28: =ROW() -> 28
B29: This area is a "space filler" (material to fill a few rows to enable subsequent worksheets' configuration to track this one) that sheds light on an important issue: inter-fuel competition within the electricity sector | AO29: =ROW() -> 29
AO30: =ROW() -> 30
AO31: =ROW() -> 31
I32: Amount by which a $10/ton carbon tax raises the price of a coal-fired kWh w/ 10,000 Btu heat rate: | J32: =L32/Parameters!$J$16*100*10 -> 1.04 | K32: ¢/kWh | L32: 2.08 | M32: lb CO2 per kWh, @ 10,000 heat rate (from Komanoff "Carbon Contents" XLS). | AO32: =ROW() -> 32
I33: Amount by which a $10/ton carbon tax raises the price of a gas-fired kWh w/ 6,000 Btu heat rate: | J33: =L33/Parameters!$J$16*100*10*(6000/10000) -> 0.339 | K33: ¢/kWh | L33: 1.13 | AO33: =ROW() -> 33
I34: Amount by which $10/ton carbon tax raises price advantage of gas-fired combined cycle vs. coal: | J34: =J32-J33 -> 0.701 | K34: ¢/kWh | AO34: =ROW() -> 34
P35: CO2 emissions, lb / kWh generated w/ Fossil Fuels, 2006 avg: | V35: 1.805 | AO35: =ROW() -> 35
B36: Assumed baseline annual incrs ratio in CO2 emissions, lb/kWh, if zero price on carbon | J36: =1-0.5*(1-Emissions!L26) -> 0.9923842 | L36: Equates to per-yr reduxn: | M36: =1-J36 -> 0.0076158046 | AO36: =ROW() -> 36
B37: KEA assumption, calculated as one-half of the compound annual average change from 2005 to 2010 (derived in Emissions worksheet). | AO37: =ROW() -> 37
B38: CO2 emissions, lb / kWh generated, w/o carbon tax | I38: =Emissions!G24 -> 1.312702 | K38: =Emissions!I24 -> 1.2864793 | L38: =Emissions!J24 -> 1.2700439 | M38: =Emissions!K24 -> 1.2089952 | N38: =Emissions!L24 -> 1.2157286 | O38: =N38*$J$36 -> 1.2064698 | P38: =O38*$J$36^(P7-2011) -> 1.1972816 | Q38: =P38*$J$36 -> 1.1881633 | R38: =Q38*$J$36 -> 1.1791145 | S38: =R38*$J$36 -> 1.1701346 | T38: =S38*$J$36 -> 1.1612231 | U38: =T38*$J$36 -> 1.1523795 | V38: =U38*$J$36 -> 1.1436032 | W38: =V38*$J$36 -> 1.1348937 | X38: =W38*$J$36 -> 1.1262506 | ... AL38: =AK38*$J$36 -> 1.0119354 | AO38: =ROW() -> 38
B39: =CONCATENATE("Figures through 2010 are calc'd in 'Emissions' worksheet. From 2011, each figure is previous year's figure times ratio in Cell J",AO36, ".") -> Figures through 2010 are calc'd in 'Emissions' worksheet. From 2011, each figure is previous year's figure times ratio in Cell J36. | AO39: =ROW() -> 39
B40: Ratio, Generation to Sales | F40: Avg for 4 yrs shown: | G40: =AVERAGE(I40:N40) -> 1.0635256 | I40: =I41/I25 -> 1.0641346 | K40: =K41/K25 -> 1.0685085 | M40: =M41/M25 -> 1.0608054 | N40: =N41/N25 -> 1.0606538 | AO40: =ROW() -> 40
...

Sheet Personal Ground Travel
B1: Personal Ground Travel | M1: =Summary!J1 -> 40823 | AO1: =ROW() -> 1
AO2: =ROW() -> 2
B3: This page pertains only to Personal Ground Travel. Other pages show Electricity, Freight, Aviation, and Other Sectors. | K3: Figures in column apply either to 2007 or throughout. | L3: Figures in column correspond to actual data. | M3: Figures in column correspond to actual data. | N3: Same as for 2009, except baseline emissions for these two years are estimated. | P3: This and later years pivot off first tax year. | AO3: =ROW() -> 3
AO4: =ROW() -> 4
AO5: =ROW() -> 5
AO6: =ROW() -> 6
B7: Note: This worksheet is pre-formatted to print to six pages. Print area extends only to 2030. | K7: 2007 | L7: 2008 | M7: 2009 | N7: 2010 | O7: 2011 | P7: =Summary!P115 -> 2012 | Q7: =P7+1 -> 2013 | R7: =Q7+1 -> 2014 | S7: =R7+1 -> 2015 | T7: =S7+1 -> 2016 | U7: =T7+1 -> 2017 | V7: =U7+1 -> 2018 | W7: =V7+1 -> 2019 | X7: =W7+1 -> 2020 | ... AL7: =AK7+1 -> 2034 | AO7: =ROW() -> 7
AO8: =ROW() -> 8
B9: Parameters that pivot directly off assumptions in Summary worksheet are shown in blue. | AO9: =ROW() -> 9
B10: Key parameters that user may specify here (in this worksheet) are shown in magenta. | AO10: =ROW() -> 10
B11: Initial carbon tax per ton of CO2 emitted | I11: =Summary!$J$76 -> 10 | J11: =CONCATENATE("Do not type in two boxes at left. Quantities in those boxes are inputted automatically from Cells I",Summary!$AN$76,", I",Summary!$AN$78,", I",Summary!$AN$80,", and I",Summary!$AN$85," in 'Summary' worksheet. ",) -> Do not type in two boxes at left. Quantities in those boxes are inputted automatically from Cells I76, I78, I80, and I85 in 'Summary' worksheet. | AO11: =ROW() -> 11
B12: Annual tax increment per ton of CO2 emitted; OR Annual % growth | I12: =IF(Summary!J78=1,MAX(Summary!J80, 0.0001),Summary!J85) -> 0.1 | AO12: =ROW() -> 12
B13: =CONCATENATE("Note: Cell H",AO12, " is formulated as greater of (i) value entered in Summary, and (ii) 0.0001, to allow carbon tax rate to be set to zero; otherwise, zero would appear in denominator of some cells.") -> Note: Cell H12 is formulated as greater of (i) value entered in Summary, and (ii) 0.0001, to allow carbon tax rate to be set to zero; otherwise, zero would appear in denominator of some cells. | AO13: =ROW() -> 13
AO14: =ROW() -> 14
B15: =CONCATENATE("Is year at top of column equal to or greater than tax-start year (which was inputted in Summary tab, Cell H",Summary!$AN$98, ")?") -> Is year at top of column equal to or greater than tax-start year (which was inputted in Summary tab, Cell H98)? | M15: =IF(M$7>=Summary!$J98,"YES","NO") -> NO | N15: =IF(N$7>=Summary!$J98,"YES","NO") -> NO | O15: =IF(O$7>=Summary!$J98,"YES","NO") -> NO | P15: =IF(P$7>=Summary!$J98,"YES","NO") -> YES | Q15: =IF(Q$7>=Summary!$J98,"YES","NO") -> YES | R15: =IF(R$7>=Summary!$J98,"YES","NO") -> YES | S15: =IF(S$7>=Summary!$J98,"YES","NO") -> YES | T15: =IF(T$7>=Summary!$J98,"YES","NO") -> YES | ... AL15: =IF(AL$7>=Summary!$J98,"YES","NO") -> YES | AO15: =ROW() -> 15
B16: =CONCATENATE("Is year at top of column equal to or greater than final tax year (which was inputted in Summary tab, Cell H",Summary!$AN$110, ")?") -> Is year at top of column equal to or greater than final tax year (which was inputted in Summary tab, Cell H110)? | M16: =IF(M$7>Summary!$J99,"YES","NO") -> NO | N16: =IF(N$7>Summary!$J99,"YES","NO") -> NO | O16: =IF(O$7>Summary!$J99,"YES","NO") -> NO | P16: =IF(P$7>Summary!$J99,"YES","NO") -> NO | Q16: =IF(Q$7>Summary!$J99,"YES","NO") -> NO | R16: =IF(R$7>Summary!$J99,"YES","NO") -> NO | S16: =IF(S$7>Summary!$J99,"YES","NO") -> NO | T16: =IF(T$7>Summary!$J99,"YES","NO") -> NO | ... AL16: =IF(AL$7>Summary!$J99,"YES","NO") -> YES | AO16: =ROW() -> 16
B17: Effective tax year, number | M17: =IF(M15="NO",0,(IF(AND(M15="YES",M16="NO"),L17+1,L17))) -> 0 | N17: =IF(N15="NO",0,(IF(AND(N15="YES",N16="NO"),M17+1,M17))) -> 0 | O17: =IF(O15="NO",0,(IF(AND(O15="YES",O16="NO"),N17+1,N17))) -> 0 | P17: =IF(P15="NO",0,(IF(AND(P15="YES",P16="NO"),O17+1,O17))) -> 1 | Q17: =IF(Q15="NO",0,(IF(AND(Q15="YES",Q16="NO"),P17+1,P17))) -> 2 | R17: =IF(R15="NO",0,(IF(AND(R15="YES",R16="NO"),Q17+1,Q17))) -> 3 | S17: =IF(S15="NO",0,(IF(AND(S15="YES",S16="NO"),R17+1,R17))) -> 4 | T17: =IF(T15="NO",0,(IF(AND(T15="YES",T16="NO"),S17+1,S17))) -> 5 | ... AL17: =IF(AL15="NO",0,(IF(AND(AL15="YES",AL16="NO"),AK17+1,AK17))) -> 15 | AO17: =ROW() -> 17
B18: Tax in year shown, per ton of CO2 emitted | M18: =IF(Summary!$J78=1,MAX(0,$I$11*MIN(1,M17)+$I$12*(M17-1)),IF(M17=0,0,($I$11*(1+$I$12)^(M17-1)))) -> 0 | N18: =IF(Summary!$J78=1,MAX(0,$I$11*MIN(1,N17)+$I$12*(N17-1)),IF(N17=0,0,($I$11*(1+$I$12)^(N17-1)))) -> 0 | O18: =IF(Summary!$J78=1,MAX(0,$I$11*MIN(1,O17)+$I$12*(O17-1)),IF(O17=0,0,($I$11*(1+$I$12)^(O17-1)))) -> 0 | P18: =IF(Summary!$J78=1,MAX(0,$I$11*MIN(1,P17)+$I$12*(P17-1)),IF(P17=0,0,($I$11*(1+$I$12)^(P17-1)))) -> 10 | Q18: =IF(Summary!$J78=1,MAX(0,$I$11*MIN(1,Q17)+$I$12*(Q17-1)),IF(Q17=0,0,($I$11*(1+$I$12)^(Q17-1)))) -> 11 | R18: =IF(Summary!$J78=1,MAX(0,$I$11*MIN(1,R17)+$I$12*(R17-1)),IF(R17=0,0,($I$11*(1+$I$12)^(R17-1)))) -> 12.1 | S18: =IF(Summary!$J78=1,MAX(0,$I$11*MIN(1,S17)+$I$12*(S17-1)),IF(S17=0,0,($I$11*(1+$I$12)^(S17-1)))) -> 13.31 | T18: =IF(Summary!$J78=1,MAX(0,$I$11*MIN(1,T17)+$I$12*(T17-1)),IF(T17=0,0,($I$11*(1+$I$12)^(T17-1)))) -> 14.641 | ... AL18: =IF(Summary!$J78=1,MAX(0,$I$11*MIN(1,AL17)+$I$12*(AL17-1)),IF(AL17=0,0,($I$11*(1+$I$12)^(AL17-1)))) -> 37.974983 | AO18: =ROW() -> 18
B19: Tax in year shown, per metric ton of carbon dioxide emitted | M19: =M18*Parameters!$J$15/2000 -> 0 | N19: =N18*Parameters!$J$15/2000 -> 0 | O19: =O18*Parameters!$J$15/2000 -> 0 | P19: =P18*Parameters!$J$15/2000 -> 11.025 | Q19: =Q18*Parameters!$J$15/2000 -> 12.1275 | R19: =R18*Parameters!$J$15/2000 -> 13.34025 | S19: =S18*Parameters!$J$15/2000 -> 14.674275 | T19: =T18*Parameters!$J$15/2000 -> 16.141703 | ... AL19: =AL18*Parameters!$J$15/2000 -> 41.867419 | AO19: =ROW() -> 19
AO20: =ROW() -> 20
B21: Million Btu per barrel, gasoline | E21: http://www.epa.gov/ttn/chief/eiip/techreport/volume08/viii01.pdf | K21: 5.253 | AO21: =ROW() -> 21
B22: Btu per gallon, gasoline | K22: =K21*1000000/Parameters!$J$18 -> 125071.43 | AO22: =ROW() -> 22
B23: lbs Carbon per gallon, gasoline | K23: =Emissions!J182/Parameters!J17 -> 5.3373914 | AO23: =ROW() -> 23
B24: Which is equivalent to this many pounds of carbon (not CO2) per 106 Btu: | K24: =K23*1000000/K22 -> 42.674745 | AO24: =ROW() -> 24
B25: lbs CO2 per gallon, gasoline | K25: =K23*Parameters!$J$14 -> 19.570435 | AO25: =ROW() -> 25
AO26: =ROW() -> 26
AO27: =ROW() -> 27
B28: Additional tax on gasoline, cents/gallon, initial year (if surtax, beyond carbon tax) | J28: =Summary!J89*IF(Summary!C95="YES",1,0) -> 6 | K28: ¢/gal | M28: =IF(Summary!$J78=1,MAX(0,$J$28*MIN(1,M17)+$J$29*(M17-1)),IF(M17=0,0,($J$28*(1+$J$29/100)^(M17-1)))) -> 0 | N28: =IF(Summary!$J78=1,MAX(0,$J$28*MIN(1,N17)+$J$29*(N17-1)),IF(N17=0,0,($J$28*(1+$J$29/100)^(N17-1)))) -> 0 | O28: =IF(Summary!$J78=1,MAX(0,$J$28*MIN(1,O17)+$J$29*(O17-1)),IF(O17=0,0,($J$28*(1+$J$29/100)^(O17-1)))) -> 0 | P28: =IF(Summary!$J78=1,MAX(0,$J$28*MIN(1,P17)+$J$29*(P17-1)),IF(P17=0,0,($J$28*(1+$J$29/100)^(P17-1)))) -> 6 | Q28: =IF(Summary!$J78=1,MAX(0,$J$28*MIN(1,Q17)+$J$29*(Q17-1)),IF(Q17=0,0,($J$28*(1+$J$29/100)^(Q17-1)))) -> 6.6 | R28: =IF(Summary!$J78=1,MAX(0,$J$28*MIN(1,R17)+$J$29*(R17-1)),IF(R17=0,0,($J$28*(1+$J$29/100)^(R17-1)))) -> 7.26 | S28: =IF(Summary!$J78=1,MAX(0,$J$28*MIN(1,S17)+$J$29*(S17-1)),IF(S17=0,0,($J$28*(1+$J$29/100)^(S17-1)))) -> 7.986 | T28: =IF(Summary!$J78=1,MAX(0,$J$28*MIN(1,T17)+$J$29*(T17-1)),IF(T17=0,0,($J$28*(1+$J$29/100)^(T17-1)))) -> 8.7846 | ... AL28: =IF(Summary!$J78=1,MAX(0,$J$28*MIN(1,AL17)+$J$29*(AL17-1)),IF(AL17=0,0,($J$28*(1+$J$29/100)^(AL17-1)))) -> 22.78499 | AO28: =ROW() -> 28
B29: Annual surtax increment, cents/gallon; OR Annual % growth | J29: =IF(Summary!J78=1,MAX(J28*I12/I11, 0.0001),Summary!J85*100*IF(Summary!C95="YES",1,0)) -> 10 | K29: =IF(Summary!$J$78=1,"¢/gal","%") -> % | AO29: =ROW() -> 29
I30: 2005 | K30: =K7 -> 2007 | M30: =M7 -> 2009 | N30: =N7 -> 2010 | O30: =O7 -> 2011 | P30: =P7 -> 2012 | Q30: =Q7 -> 2013 | R30: =R7 -> 2014 | S30: =S7 -> 2015 | T30: =T7 -> 2016 | ... AL30: =AL7 -> 2034 | AO30: =ROW() -> 30
B31: U.S. Motor gasoline 000 bbls/day | I31: =Emissions!S119 -> 9159.264 | K31: =Emissions!S121 -> 9285.669 | M31: =Emissions!S123 -> 8996.521 | N31: =Emissions!S124 -> 8992.654 | O31: =Emissions!S125 -> 8807.8431 | AO31: =ROW() -> 31
B32: (from Emissions worksheet) | AO32: =ROW() -> 32
B33: U.S. Motor gasoline 000 bbls (entire year) | I33: =I31*Parameters!$J$19 -> 3343131.4 | K33: =K31*Parameters!$J$19 -> 3389269.2 | M33: =M31*Parameters!$J$19 -> 3283730.2 | N33: =N31*Parameters!$J$19 -> 3282318.7 | O33: =O31*Parameters!$J$19 -> 3214862.7 | AO33: =ROW() -> 33
B34: U.S. Motor gasoline, million gallons | I34: =I33*Parameters!$J$18/1000 -> 140411.52 | K34: =K33*Parameters!$J$18/1000 -> 142349.31 | M34: =M33*Parameters!$J$18/1000 -> 137916.67 | N34: =N33*Parameters!$J$18/1000 -> 137857.39 | O34: =O33*Parameters!$J$18/1000 -> 135024.23 | AO34: =ROW() -> 34
AO35: =ROW() -> 35
B36: Historical Real Increase Rate in U.S. Average Gasoline Price, 1990-2010: | K36: 0.017 | AO36: =ROW() -> 36
B37: See Komanoff spreadsheet, "Price-Elasticity of Gasoline Demand, accessible via <http://www.komanoff.net/oil_9_11/>. Go to Full-Year Comparison page. | AO37: =ROW() -> 37
B38: Multiplier to that rate, for projecting future real increase in gasoline price after 2010: | K38: 1 | AO38: =ROW() -> 38
B39: Komanoff assumption. | AO39: =ROW() -> 39
B40: Projected annual rate of real increase in average gasoline price beyond 2010, w/o C tax | K40: =K36*K38 -> 0.017 | AO40: =ROW() -> 40
...

Sheet Freight
B1: Freight (Goods Movement) | M1: =Summary!J1 -> 40823 | AO1: =ROW() -> 1
AO2: =ROW() -> 2
B3: This page pertains only to Freight. Other pages show Electricity, Personal Ground Travel, Aviation, and Other Sectors. | K3: Figures in column apply either to 2007 or throughout. | L3: Figures in column correspond to actual data. | M3: Figures in column correspond to actual data. | N3: Same as for 2009, except baseline emissions for these two years are estimated. | P3: This and later years pivot off first tax year. | AO3: =ROW() -> 3
AO4: =ROW() -> 4
AO5: =ROW() -> 5
AO6: =ROW() -> 6
B7: Note: This worksheet is pre-formatted to print to six pages. Print area extends only to 2030. | K7: 2007 | L7: 2008 | M7: 2009 | N7: 2010 | O7: 2011 | P7: =Summary!P115 -> 2012 | Q7: =P7+1 -> 2013 | R7: =Q7+1 -> 2014 | S7: =R7+1 -> 2015 | T7: =S7+1 -> 2016 | U7: =T7+1 -> 2017 | V7: =U7+1 -> 2018 | W7: =V7+1 -> 2019 | X7: =W7+1 -> 2020 | ... AL7: =AK7+1 -> 2034 | AO7: =ROW() -> 7
AO8: =ROW() -> 8
B9: Parameters that pivot directly off assumptions in Summary worksheet are shown in blue. | AO9: =ROW() -> 9
B10: Key parameters that user may specify here (in this worksheet) are shown in magenta. | AO10: =ROW() -> 10
B11: Initial carbon tax per ton of CO2 emitted | I11: =Summary!$J$76 -> 10 | J11: =CONCATENATE("Do not type in two boxes at left. Quantities in those boxes are inputted automatically from Cells I",Summary!$AN$76,", I",Summary!$AN$78,", I",Summary!$AN$80,", and I",Summary!$AN$85," in 'Summary' worksheet. ",) -> Do not type in two boxes at left. Quantities in those boxes are inputted automatically from Cells I76, I78, I80, and I85 in 'Summary' worksheet. | AO11: =ROW() -> 11
B12: Annual tax increment per ton of CO2 emitted; OR Annual % growth | I12: =IF(Summary!J78=1,MAX(Summary!J80, 0.0001),Summary!J85) -> 0.1 | AO12: =ROW() -> 12
B13: =CONCATENATE("Note: Cell H",AO12, " is formulated as greater of (i) value entered in Summary, and (ii) 0.0001, to allow carbon tax rate to be set to zero; otherwise, zero would appear in denominator of some cells.") -> Note: Cell H12 is formulated as greater of (i) value entered in Summary, and (ii) 0.0001, to allow carbon tax rate to be set to zero; otherwise, zero would appear in denominator of some cells. | AO13: =ROW() -> 13
AO14: =ROW() -> 14
B15: =CONCATENATE("Is year at top of column equal to or greater than tax-start year (which was inputted in Summary tab, Cell H",Summary!$AN$98, ")?") -> Is year at top of column equal to or greater than tax-start year (which was inputted in Summary tab, Cell H98)? | M15: =IF(M$7>=Summary!$J98,"YES","NO") -> NO | N15: =IF(N$7>=Summary!$J98,"YES","NO") -> NO | O15: =IF(O$7>=Summary!$J98,"YES","NO") -> NO | P15: =IF(P$7>=Summary!$J98,"YES","NO") -> YES | Q15: =IF(Q$7>=Summary!$J98,"YES","NO") -> YES | R15: =IF(R$7>=Summary!$J98,"YES","NO") -> YES | S15: =IF(S$7>=Summary!$J98,"YES","NO") -> YES | T15: =IF(T$7>=Summary!$J98,"YES","NO") -> YES | ... AL15: =IF(AL$7>=Summary!$J98,"YES","NO") -> YES | AO15: =ROW() -> 15
B16: =CONCATENATE("Is year at top of column equal to or greater than final tax year (which was inputted in Summary tab, Cell H",Summary!$AN$110, ")?") -> Is year at top of column equal to or greater than final tax year (which was inputted in Summary tab, Cell H110)? | M16: =IF(M$7>Summary!$J99,"YES","NO") -> NO | N16: =IF(N$7>Summary!$J99,"YES","NO") -> NO | O16: =IF(O$7>Summary!$J99,"YES","NO") -> NO | P16: =IF(P$7>Summary!$J99,"YES","NO") -> NO | Q16: =IF(Q$7>Summary!$J99,"YES","NO") -> NO | R16: =IF(R$7>Summary!$J99,"YES","NO") -> NO | S16: =IF(S$7>Summary!$J99,"YES","NO") -> NO | T16: =IF(T$7>Summary!$J99,"YES","NO") -> NO | ... AL16: =IF(AL$7>Summary!$J99,"YES","NO") -> YES | AO16: =ROW() -> 16
B17: Effective tax year, number | M17: =IF(M15="NO",0,(IF(AND(M15="YES",M16="NO"),L17+1,L17))) -> 0 | N17: =IF(N15="NO",0,(IF(AND(N15="YES",N16="NO"),M17+1,M17))) -> 0 | O17: =IF(O15="NO",0,(IF(AND(O15="YES",O16="NO"),N17+1,N17))) -> 0 | P17: =IF(P15="NO",0,(IF(AND(P15="YES",P16="NO"),O17+1,O17))) -> 1 | Q17: =IF(Q15="NO",0,(IF(AND(Q15="YES",Q16="NO"),P17+1,P17))) -> 2 | R17: =IF(R15="NO",0,(IF(AND(R15="YES",R16="NO"),Q17+1,Q17))) -> 3 | S17: =IF(S15="NO",0,(IF(AND(S15="YES",S16="NO"),R17+1,R17))) -> 4 | T17: =IF(T15="NO",0,(IF(AND(T15="YES",T16="NO"),S17+1,S17))) -> 5 | ... AL17: =IF(AL15="NO",0,(IF(AND(AL15="YES",AL16="NO"),AK17+1,AK17))) -> 15 | AO17: =ROW() -> 17
B18: Tax in year shown, per ton of CO2 emitted | M18: =IF(Summary!$J78=1,MAX(0,$I$11*MIN(1,M17)+$I$12*(M17-1)),IF(M17=0,0,($I$11*(1+$I$12)^(M17-1)))) -> 0 | N18: =IF(Summary!$J78=1,MAX(0,$I$11*MIN(1,N17)+$I$12*(N17-1)),IF(N17=0,0,($I$11*(1+$I$12)^(N17-1)))) -> 0 | O18: =IF(Summary!$J78=1,MAX(0,$I$11*MIN(1,O17)+$I$12*(O17-1)),IF(O17=0,0,($I$11*(1+$I$12)^(O17-1)))) -> 0 | P18: =IF(Summary!$J78=1,MAX(0,$I$11*MIN(1,P17)+$I$12*(P17-1)),IF(P17=0,0,($I$11*(1+$I$12)^(P17-1)))) -> 10 | Q18: =IF(Summary!$J78=1,MAX(0,$I$11*MIN(1,Q17)+$I$12*(Q17-1)),IF(Q17=0,0,($I$11*(1+$I$12)^(Q17-1)))) -> 11 | R18: =IF(Summary!$J78=1,MAX(0,$I$11*MIN(1,R17)+$I$12*(R17-1)),IF(R17=0,0,($I$11*(1+$I$12)^(R17-1)))) -> 12.1 | S18: =IF(Summary!$J78=1,MAX(0,$I$11*MIN(1,S17)+$I$12*(S17-1)),IF(S17=0,0,($I$11*(1+$I$12)^(S17-1)))) -> 13.31 | T18: =IF(Summary!$J78=1,MAX(0,$I$11*MIN(1,T17)+$I$12*(T17-1)),IF(T17=0,0,($I$11*(1+$I$12)^(T17-1)))) -> 14.641 | ... AL18: =IF(Summary!$J78=1,MAX(0,$I$11*MIN(1,AL17)+$I$12*(AL17-1)),IF(AL17=0,0,($I$11*(1+$I$12)^(AL17-1)))) -> 37.974983 | AO18: =ROW() -> 18
B19: Tax in year shown, per metric ton of carbon dioxide emitted | M19: =M18*Parameters!$J$15/2000 -> 0 | N19: =N18*Parameters!$J$15/2000 -> 0 | O19: =O18*Parameters!$J$15/2000 -> 0 | P19: =P18*Parameters!$J$15/2000 -> 11.025 | Q19: =Q18*Parameters!$J$15/2000 -> 12.1275 | R19: =R18*Parameters!$J$15/2000 -> 13.34025 | S19: =S18*Parameters!$J$15/2000 -> 14.674275 | T19: =T18*Parameters!$J$15/2000 -> 16.141703 | ... AL19: =AL18*Parameters!$J$15/2000 -> 41.867419 | AO19: =ROW() -> 19
AO20: =ROW() -> 20
B21: Million Btu per barrel, diesel fuel | E21: Monthly Energy Review, Table A1. Approximate Heat Content of Petroleum Products (distillate fuel oil) | K21: 5.825 | AO21: =ROW() -> 21
B22: Btu per gallon, diesel fuel | K22: =$K$21*1000000/Parameters!$J$18 -> 138690.48 | AO22: =ROW() -> 22
B23: lbs Carbon per gallon, diesel | K23: =Emissions!J183/Parameters!J17 -> 6.1244416 | AO23: =ROW() -> 23
B24: Which is equivalent to this many pounds of carbon (not CO2) per 106 Btu: | K24: =K23*1000000/K22 -> 44.159064 | AO24: =ROW() -> 24
B25: lbs CO2 per gallon, diesel | K25: =K23*Parameters!$J$14 -> 22.456286 | AO25: =ROW() -> 25
AO26: =ROW() -> 26
AO27: =ROW() -> 27
B28: Additional tax on diesel, cents/gallon, initial year (if surtax, beyond carbon tax) | J28: =Summary!J89*IF(Summary!D95="YES",1,0) -> 6 | K28: ¢/gal | M28: =IF(Summary!$J78=1,MAX(0,$J$28*MIN(1,M17)+$J$29*(M17-1)),IF(M17=0,0,($J$28*(1+$J$29/100)^(M17-1)))) -> 0 | N28: =IF(Summary!$J78=1,MAX(0,$J$28*MIN(1,N17)+$J$29*(N17-1)),IF(N17=0,0,($J$28*(1+$J$29/100)^(N17-1)))) -> 0 | O28: =IF(Summary!$J78=1,MAX(0,$J$28*MIN(1,O17)+$J$29*(O17-1)),IF(O17=0,0,($J$28*(1+$J$29/100)^(O17-1)))) -> 0 | P28: =IF(Summary!$J78=1,MAX(0,$J$28*MIN(1,P17)+$J$29*(P17-1)),IF(P17=0,0,($J$28*(1+$J$29/100)^(P17-1)))) -> 6 | Q28: =IF(Summary!$J78=1,MAX(0,$J$28*MIN(1,Q17)+$J$29*(Q17-1)),IF(Q17=0,0,($J$28*(1+$J$29/100)^(Q17-1)))) -> 6.6 | R28: =IF(Summary!$J78=1,MAX(0,$J$28*MIN(1,R17)+$J$29*(R17-1)),IF(R17=0,0,($J$28*(1+$J$29/100)^(R17-1)))) -> 7.26 | S28: =IF(Summary!$J78=1,MAX(0,$J$28*MIN(1,S17)+$J$29*(S17-1)),IF(S17=0,0,($J$28*(1+$J$29/100)^(S17-1)))) -> 7.986 | T28: =IF(Summary!$J78=1,MAX(0,$J$28*MIN(1,T17)+$J$29*(T17-1)),IF(T17=0,0,($J$28*(1+$J$29/100)^(T17-1)))) -> 8.7846 | ... AL28: =IF(Summary!$J78=1,MAX(0,$J$28*MIN(1,AL17)+$J$29*(AL17-1)),IF(AL17=0,0,($J$28*(1+$J$29/100)^(AL17-1)))) -> 22.78499 | AO28: =ROW() -> 28
B29: Annual surtax increment, cents/gallon; OR Annual % growth | J29: =IF(Summary!J78=1,MAX(J28*I12/I11, 0.0001),Summary!J85*100*IF(Summary!D95="YES",1,0)) -> 10 | K29: =IF(Summary!$J$78=1,"¢/gal","%") -> % | AO29: =ROW() -> 29
I30: 2005 | K30: =K7 -> 2007 | M30: =M7 -> 2009 | N30: =N7 -> 2010 | O30: =O7 -> 2011 | P30: =P7 -> 2012 | Q30: =Q7 -> 2013 | R30: =R7 -> 2014 | S30: =S7 -> 2015 | T30: =T7 -> 2016 | ... AI30: =AI7 -> 2031 | AO30: =ROW() -> 30
B31: U.S. Distillate fuel oil 000 bbls/day | H31: from Emissions wksht | I31: =Emissions!Z119 -> 4118.011 | K31: =Emissions!Z121 -> 4195.911 | M31: =Emissions!Z123 -> 3631.081 | N31: =Emissions!Z124 -> 3800.314 | O31: =Emissions!Z125 -> 3886.654 | AO31: =ROW() -> 31
B32: Share of U.S. distillate used as diesel fuel for freight movement (KEA est.) | I32: 0.8 | AO32: =ROW() -> 32
B33: U.S. Distillate fuel oil used for freight (000 bbls per year) | I33: =$I$32*I31*Parameters!$J$19 -> 1202459.2 | K33: =$I$32*K31*Parameters!$J$19 -> 1225206 | M33: =$I$32*M31*Parameters!$J$19 -> 1060275.7 | N33: =$I$32*N31*Parameters!$J$19 -> 1109691.7 | O33: =$I$32*O31*Parameters!$J$19 -> 1134903 | AO33: =ROW() -> 33
B34: U.S. Distillate fuel oil, million gallons | I34: =I33*Parameters!$J$18/1000 -> 50503.287 | K34: =K33*Parameters!$J$18/1000 -> 51458.653 | M34: =M33*Parameters!$J$18/1000 -> 44531.577 | N34: =N33*Parameters!$J$18/1000 -> 46607.051 | O34: =O33*Parameters!$J$18/1000 -> 47665.925 | AO34: =ROW() -> 34
AO35: =ROW() -> 35
B36: Historical Real Increase Rate in U.S. Average Diesel Price, 1990-2010: | K36: =(1+'Personal Ground Travel'!$K$36)*(1+0.01)-1 -> 0.02717 | L36: This is average real incrs rate 1990-2010. Calculated as sum of analogous rate for motor gasoline in Personal Ground Travel sheet, plus 1.0% to reflect the more rapid rise in untaxed diesel price vis-a-vis untaxed gasoline price over same period, as gleaned from USEIA Monthly Energy Review, Table 9.7. Refiner Prices of Petroleum Products to End Users. This indirect procedure is required because MER tracks only untaxed diesel prices. | AO36: =ROW() -> 36
AO37: =ROW() -> 37
B38: Multiplier to that rate, for projecting future real increase in gasoline price after 2010: | K38: 0.75 | AO38: =ROW() -> 38
B39: Komanoff assumption. | AO39: =ROW() -> 39
B40: Projected annual rate of real increase in average diesel fuel price beyond 2010, w/o C tax | K40: =K36*K38 -> 0.0203775 | AO40: =ROW() -> 40
...

Sheet Aviation
B1: Aviation | M1: =Summary!J1 -> 40823 | AO1: =ROW() -> 1
AO2: =ROW() -> 2
B3: This page pertains only to Aviation. Other pages show Electricity, Personal Ground Travel, Freight, and Other Sectors. | K3: Figures in column apply either to 2007 or throughout. | L3: Figures in column correspond to actual data. | M3: Figures in column correspond to actual data. | N3: Same as for 2009, except baseline emissions for these two years are estimated. | P3: This and later years pivot off first tax year. | AO3: =ROW() -> 3
AO4: =ROW() -> 4
AO5: =ROW() -> 5
AO6: =ROW() -> 6
B7: Note: This worksheet is pre-formatted to print to six pages. Print area extends only to 2030. | K7: 2007 | L7: 2008 | M7: 2009 | N7: 2010 | O7: 2011 | P7: =Summary!P115 -> 2012 | Q7: =P7+1 -> 2013 | R7: =Q7+1 -> 2014 | S7: =R7+1 -> 2015 | T7: =S7+1 -> 2016 | U7: =T7+1 -> 2017 | V7: =U7+1 -> 2018 | W7: =V7+1 -> 2019 | X7: =W7+1 -> 2020 | ... AL7: =AK7+1 -> 2034 | AO7: =ROW() -> 7
AO8: =ROW() -> 8
B9: Parameters that pivot directly off assumptions in Summary worksheet are shown in blue. | AO9: =ROW() -> 9
B10: Key parameters that user may specify here (in this worksheet) are shown in magenta. | AO10: =ROW() -> 10
B11: Initial carbon tax per ton of CO2 emitted | I11: =Summary!$J$76 -> 10 | J11: =CONCATENATE("Do not type in two boxes at left. Quantities in those boxes are inputted automatically from Cells I",Summary!$AN$76,", I",Summary!$AN$78,", I",Summary!$AN$80,", and I",Summary!$AN$85," in 'Summary' worksheet. ",) -> Do not type in two boxes at left. Quantities in those boxes are inputted automatically from Cells I76, I78, I80, and I85 in 'Summary' worksheet. | AO11: =ROW() -> 11
B12: Annual tax increment per ton of CO2 emitted; OR Annual % growth | I12: =IF(Summary!J78=1,MAX(Summary!J80, 0.0001),Summary!J85) -> 0.1 | AO12: =ROW() -> 12
B13: =CONCATENATE("Note: Cell H",AO12, " is formulated as greater of (i) value entered in Summary, and (ii) 0.0001, to allow carbon tax rate to be set to zero; otherwise, zero would appear in denominator of some cells.") -> Note: Cell H12 is formulated as greater of (i) value entered in Summary, and (ii) 0.0001, to allow carbon tax rate to be set to zero; otherwise, zero would appear in denominator of some cells. | AO13: =ROW() -> 13
AO14: =ROW() -> 14
B15: =CONCATENATE("Is year at top of column equal to or greater than tax-start year (which was inputted in Summary tab, Cell H",Summary!$AN$98, ")?") -> Is year at top of column equal to or greater than tax-start year (which was inputted in Summary tab, Cell H98)? | M15: =IF(M$7>=Summary!$J98,"YES","NO") -> NO | N15: =IF(N$7>=Summary!$J98,"YES","NO") -> NO | O15: =IF(O$7>=Summary!$J98,"YES","NO") -> NO | P15: =IF(P$7>=Summary!$J98,"YES","NO") -> YES | Q15: =IF(Q$7>=Summary!$J98,"YES","NO") -> YES | R15: =IF(R$7>=Summary!$J98,"YES","NO") -> YES | S15: =IF(S$7>=Summary!$J98,"YES","NO") -> YES | T15: =IF(T$7>=Summary!$J98,"YES","NO") -> YES | ... AL15: =IF(AL$7>=Summary!$J98,"YES","NO") -> YES | AO15: =ROW() -> 15
B16: =CONCATENATE("Is year at top of column equal to or greater than final tax year (which was inputted in Summary tab, Cell H",Summary!$AN$110, ")?") -> Is year at top of column equal to or greater than final tax year (which was inputted in Summary tab, Cell H110)? | M16: =IF(M$7>Summary!$J99,"YES","NO") -> NO | N16: =IF(N$7>Summary!$J99,"YES","NO") -> NO | O16: =IF(O$7>Summary!$J99,"YES","NO") -> NO | P16: =IF(P$7>Summary!$J99,"YES","NO") -> NO | Q16: =IF(Q$7>Summary!$J99,"YES","NO") -> NO | R16: =IF(R$7>Summary!$J99,"YES","NO") -> NO | S16: =IF(S$7>Summary!$J99,"YES","NO") -> NO | T16: =IF(T$7>Summary!$J99,"YES","NO") -> NO | ... AL16: =IF(AL$7>Summary!$J99,"YES","NO") -> YES | AO16: =ROW() -> 16
B17: Effective tax year, number | M17: =IF(M15="NO",0,(IF(AND(M15="YES",M16="NO"),L17+1,L17))) -> 0 | N17: =IF(N15="NO",0,(IF(AND(N15="YES",N16="NO"),M17+1,M17))) -> 0 | O17: =IF(O15="NO",0,(IF(AND(O15="YES",O16="NO"),N17+1,N17))) -> 0 | P17: =IF(P15="NO",0,(IF(AND(P15="YES",P16="NO"),O17+1,O17))) -> 1 | Q17: =IF(Q15="NO",0,(IF(AND(Q15="YES",Q16="NO"),P17+1,P17))) -> 2 | R17: =IF(R15="NO",0,(IF(AND(R15="YES",R16="NO"),Q17+1,Q17))) -> 3 | S17: =IF(S15="NO",0,(IF(AND(S15="YES",S16="NO"),R17+1,R17))) -> 4 | T17: =IF(T15="NO",0,(IF(AND(T15="YES",T16="NO"),S17+1,S17))) -> 5 | ... AL17: =IF(AL15="NO",0,(IF(AND(AL15="YES",AL16="NO"),AK17+1,AK17))) -> 15 | AO17: =ROW() -> 17
B18: Tax in year shown, per ton of CO2 emitted | M18: =IF(Summary!$J78=1,MAX(0,$I$11*MIN(1,M17)+$I$12*(M17-1)),IF(M17=0,0,($I$11*(1+$I$12)^(M17-1)))) -> 0 | N18: =IF(Summary!$J78=1,MAX(0,$I$11*MIN(1,N17)+$I$12*(N17-1)),IF(N17=0,0,($I$11*(1+$I$12)^(N17-1)))) -> 0 | O18: =IF(Summary!$J78=1,MAX(0,$I$11*MIN(1,O17)+$I$12*(O17-1)),IF(O17=0,0,($I$11*(1+$I$12)^(O17-1)))) -> 0 | P18: =IF(Summary!$J78=1,MAX(0,$I$11*MIN(1,P17)+$I$12*(P17-1)),IF(P17=0,0,($I$11*(1+$I$12)^(P17-1)))) -> 10 | Q18: =IF(Summary!$J78=1,MAX(0,$I$11*MIN(1,Q17)+$I$12*(Q17-1)),IF(Q17=0,0,($I$11*(1+$I$12)^(Q17-1)))) -> 11 | R18: =IF(Summary!$J78=1,MAX(0,$I$11*MIN(1,R17)+$I$12*(R17-1)),IF(R17=0,0,($I$11*(1+$I$12)^(R17-1)))) -> 12.1 | S18: =IF(Summary!$J78=1,MAX(0,$I$11*MIN(1,S17)+$I$12*(S17-1)),IF(S17=0,0,($I$11*(1+$I$12)^(S17-1)))) -> 13.31 | T18: =IF(Summary!$J78=1,MAX(0,$I$11*MIN(1,T17)+$I$12*(T17-1)),IF(T17=0,0,($I$11*(1+$I$12)^(T17-1)))) -> 14.641 | ... AL18: =IF(Summary!$J78=1,MAX(0,$I$11*MIN(1,AL17)+$I$12*(AL17-1)),IF(AL17=0,0,($I$11*(1+$I$12)^(AL17-1)))) -> 37.974983 | AO18: =ROW() -> 18
B19: Tax in year shown, per metric ton of carbon dioxide emitted | M19: =M18*Parameters!$J$15/2000 -> 0 | N19: =N18*Parameters!$J$15/2000 -> 0 | O19: =O18*Parameters!$J$15/2000 -> 0 | P19: =P18*Parameters!$J$15/2000 -> 11.025 | Q19: =Q18*Parameters!$J$15/2000 -> 12.1275 | R19: =R18*Parameters!$J$15/2000 -> 13.34025 | S19: =S18*Parameters!$J$15/2000 -> 14.674275 | T19: =T18*Parameters!$J$15/2000 -> 16.141703 | ... AL19: =AL18*Parameters!$J$15/2000 -> 41.867419 | AO19: =ROW() -> 19
AO20: =ROW() -> 20
B21: Million Btu per barrel, jet fuel | E21: Monthly Energy Review, Table A1. Approximate Heat Content of Petroleum Products (jet fuel, kerosene type) | K21: 5.67 | AO21: =ROW() -> 21
B22: Btu per gallon, jet fuel | K22: =$K$21*1000000/Parameters!$J$18 -> 135000 | AO22: =ROW() -> 22
B23: lbs Carbon per gallon, jet fuel | K23: =Emissions!J189/Parameters!J17 -> 5.754065 | AO23: =ROW() -> 23
B24: Which is equivalent to this many pounds of carbon (not CO2) per 106 Btu: | K24: =K23*1000000/K22 -> 42.622704 | AO24: =ROW() -> 24
B25: lbs CO2 per gallon, jet fuel | K25: =K23*Parameters!$J$14 -> 21.098238 | AO25: =ROW() -> 25
AO26: =ROW() -> 26
AO27: =ROW() -> 27
B28: Additional tax on jet fuel, cents/gallon, initial year (if surtax, beyond carbon tax) | J28: =Summary!J89*IF(Summary!E95="YES",1,0) -> 6 | K28: ¢/gal | M28: =IF(Summary!$J78=1,MAX(0,$J$28*MIN(1,M17)+$J$29*(M17-1)),IF(M17=0,0,($J$28*(1+$J$29/100)^(M17-1)))) -> 0 | N28: =IF(Summary!$J78=1,MAX(0,$J$28*MIN(1,N17)+$J$29*(N17-1)),IF(N17=0,0,($J$28*(1+$J$29/100)^(N17-1)))) -> 0 | O28: =IF(Summary!$J78=1,MAX(0,$J$28*MIN(1,O17)+$J$29*(O17-1)),IF(O17=0,0,($J$28*(1+$J$29/100)^(O17-1)))) -> 0 | P28: =IF(Summary!$J78=1,MAX(0,$J$28*MIN(1,P17)+$J$29*(P17-1)),IF(P17=0,0,($J$28*(1+$J$29/100)^(P17-1)))) -> 6 | Q28: =IF(Summary!$J78=1,MAX(0,$J$28*MIN(1,Q17)+$J$29*(Q17-1)),IF(Q17=0,0,($J$28*(1+$J$29/100)^(Q17-1)))) -> 6.6 | R28: =IF(Summary!$J78=1,MAX(0,$J$28*MIN(1,R17)+$J$29*(R17-1)),IF(R17=0,0,($J$28*(1+$J$29/100)^(R17-1)))) -> 7.26 | S28: =IF(Summary!$J78=1,MAX(0,$J$28*MIN(1,S17)+$J$29*(S17-1)),IF(S17=0,0,($J$28*(1+$J$29/100)^(S17-1)))) -> 7.986 | T28: =IF(Summary!$J78=1,MAX(0,$J$28*MIN(1,T17)+$J$29*(T17-1)),IF(T17=0,0,($J$28*(1+$J$29/100)^(T17-1)))) -> 8.7846 | ... AL28: =IF(Summary!$J78=1,MAX(0,$J$28*MIN(1,AL17)+$J$29*(AL17-1)),IF(AL17=0,0,($J$28*(1+$J$29/100)^(AL17-1)))) -> 22.78499 | AO28: =ROW() -> 28
B29: Annual surtax increment, cents/gallon; OR Annual % growth | J29: =IF(Summary!J78=1,MAX(J28*I12/I11, 0.0001),Summary!J85*100*IF(Summary!E95="YES",1,0)) -> 10 | K29: =IF(Summary!$J$78=1,"¢/gal","%") -> % | AO29: =ROW() -> 29
I30: 2005 | K30: =K7 -> 2007 | M30: =M7 -> 2009 | N30: =N7 -> 2010 | O30: =O7 -> 2011 | P30: =P7 -> 2012 | Q30: =Q7 -> 2013 | R30: =R7 -> 2014 | S30: =S7 -> 2015 | T30: =T7 -> 2016 | ... AL30: =AL7 -> 2034 | AO30: =ROW() -> 30
B31: U.S. Jet Fuel supplied 000 bbls/day | I31: =Emissions!T119 -> 1698.185 | K31: =Emissions!T121 -> 1639.531 | M31: =Emissions!T123 -> 1407.604 | N31: =Emissions!T124 -> 1445.423 | O31: =Emissions!T125 -> 1447.5928 | AO31: =ROW() -> 31
B32: U.S. Jet Fuel 000 bbls (entire year) | I32: =I31*Parameters!$J$19 -> 619837.53 | K32: =K31*Parameters!$J$19 -> 598428.81 | M32: =M31*Parameters!$J$19 -> 513775.46 | N32: =N31*Parameters!$J$19 -> 527579.39 | O32: =O31*Parameters!$J$19 -> 528371.36 | AO32: =ROW() -> 32
B33: (from Emissions worksheet) | AO33: =ROW() -> 33
B34: U.S. Jet Fuel gasoline, million gallons | I34: =I32*Parameters!$J$18/1000 -> 26033.176 | K34: =K32*Parameters!$J$18/1000 -> 25134.01 | M34: =M32*Parameters!$J$18/1000 -> 21578.569 | N34: =N32*Parameters!$J$18/1000 -> 22158.335 | O34: =O32*Parameters!$J$18/1000 -> 22191.597 | AO34: =ROW() -> 34
AO35: =ROW() -> 35
B36: Historical Real Increase Rate in U.S. Average Jet Fuel Price, 1990-2010: | K36: =(1+'Personal Ground Travel'!$K$36)*(1+0.005)-1 -> 0.022085 | L36: This is average real incrs rate 1990-2010. Calculated as sum of analogous rate for motor gasoline in Personal Ground Travel sheet, plus 0.5% to reflect the more rapid rise in untaxed jet fuel price vis-a-vis untaxed gasoline price over same period, as gleaned from USEIA Monthly Energy Review, Table 9.7. Refiner Prices of Petroleum Products to End Users. This indirect procedure is required because MER tracks only untaxed jet fuel prices. | AO36: =ROW() -> 36
AO37: =ROW() -> 37
B38: Multiplier to that rate, for projecting future real increase in gasoline price after 2010: | K38: 0.9 | AO38: =ROW() -> 38
B39: Komanoff assumption. | AO39: =ROW() -> 39
B40: Projected annual rate of real increase in average jet fuel price beyond 2010, w/o C tax | K40: =K36*K38 -> 0.0198765 | AO40: =ROW() -> 40
...

Sheet Other
B1: "Other" | M1: =Summary!J1 -> 40823 | AO1: =ROW() -> 1
AO2: =ROW() -> 2
B3: This page pertains to all CO2 emissions from fuel burning, other than those from Electricity Generation, Personal Ground Travel, Freight movement, and Aviation, which are treated in preceding worksheets. Since this "sector" lumps together hundreds of disparate sectors, our treatment is less rigorous than for those sectors. | K3: Figures in column apply either to 2007 or throughout. | L3: Figures in column correspond to actual data. | M3: Figures in column correspond to actual data. | N3: Same as for 2009, except baseline emissions for these two years are estimated. | P3: This and later years pivot off first tax year. | AO3: =ROW() -> 3
AO4: =ROW() -> 4
AO5: =ROW() -> 5
AO6: =ROW() -> 6
B7: Note: This worksheet is pre-formatted to print to six pages. Print area extends only to 2030. | K7: 2007 | L7: 2008 | M7: 2009 | N7: 2010 | O7: 2011 | P7: =Summary!P115 -> 2012 | Q7: =P7+1 -> 2013 | R7: =Q7+1 -> 2014 | S7: =R7+1 -> 2015 | T7: =S7+1 -> 2016 | U7: =T7+1 -> 2017 | V7: =U7+1 -> 2018 | W7: =V7+1 -> 2019 | X7: =W7+1 -> 2020 | ... AL7: =AK7+1 -> 2034 | AO7: =ROW() -> 7
AO8: =ROW() -> 8
B9: Parameters that pivot directly off assumptions in Summary worksheet are shown in blue. | AO9: =ROW() -> 9
B10: Key parameters that user may specify here (in this worksheet) are shown in magenta. | AO10: =ROW() -> 10
B11: Initial carbon tax per ton of CO2 emitted | I11: =Summary!$J$76 -> 10 | J11: =CONCATENATE("Do not type in two boxes at left. Quantities in those boxes are inputted automatically from Cells I",Summary!$AN$76,", I",Summary!$AN$78,", I",Summary!$AN$80,", and I",Summary!$AN$85," in 'Summary' worksheet. ",) -> Do not type in two boxes at left. Quantities in those boxes are inputted automatically from Cells I76, I78, I80, and I85 in 'Summary' worksheet. | AO11: =ROW() -> 11
B12: Annual tax increment per ton of CO2 emitted; OR Annual % growth | I12: =IF(Summary!J78=1,MAX(Summary!J80, 0.0001),Summary!J85) -> 0.1 | AO12: =ROW() -> 12
B13: =CONCATENATE("Note: Cell H",AO12, " is formulated as greater of (i) value entered in Summary, and (ii) 0.0001, to allow carbon tax rate to be set to zero; otherwise, zero would appear in denominator of some cells.") -> Note: Cell H12 is formulated as greater of (i) value entered in Summary, and (ii) 0.0001, to allow carbon tax rate to be set to zero; otherwise, zero would appear in denominator of some cells. | AO13: =ROW() -> 13
AO14: =ROW() -> 14
B15: =CONCATENATE("Is year at top of column equal to or greater than tax-start year (which was inputted in Summary tab, Cell H",Summary!$AN$98, ")?") -> Is year at top of column equal to or greater than tax-start year (which was inputted in Summary tab, Cell H98)? | M15: =IF(M$7>=Summary!$J98,"YES","NO") -> NO | N15: =IF(N$7>=Summary!$J98,"YES","NO") -> NO | O15: =IF(O$7>=Summary!$J98,"YES","NO") -> NO | P15: =IF(P$7>=Summary!$J98,"YES","NO") -> YES | Q15: =IF(Q$7>=Summary!$J98,"YES","NO") -> YES | R15: =IF(R$7>=Summary!$J98,"YES","NO") -> YES | S15: =IF(S$7>=Summary!$J98,"YES","NO") -> YES | T15: =IF(T$7>=Summary!$J98,"YES","NO") -> YES | ... AL15: =IF(AL$7>=Summary!$J98,"YES","NO") -> YES | AO15: =ROW() -> 15
B16: =CONCATENATE("Is year at top of column equal to or greater than final tax year (which was inputted in Summary tab, Cell H",Summary!$AN$110, ")?") -> Is year at top of column equal to or greater than final tax year (which was inputted in Summary tab, Cell H110)? | M16: =IF(M$7>Summary!$J99,"YES","NO") -> NO | N16: =IF(N$7>Summary!$J99,"YES","NO") -> NO | O16: =IF(O$7>Summary!$J99,"YES","NO") -> NO | P16: =IF(P$7>Summary!$J99,"YES","NO") -> NO | Q16: =IF(Q$7>Summary!$J99,"YES","NO") -> NO | R16: =IF(R$7>Summary!$J99,"YES","NO") -> NO | S16: =IF(S$7>Summary!$J99,"YES","NO") -> NO | T16: =IF(T$7>Summary!$J99,"YES","NO") -> NO | ... AL16: =IF(AL$7>Summary!$J99,"YES","NO") -> YES | AO16: =ROW() -> 16
B17: Effective tax year, number | M17: =IF(M15="NO",0,(IF(AND(M15="YES",M16="NO"),L17+1,L17))) -> 0 | N17: =IF(N15="NO",0,(IF(AND(N15="YES",N16="NO"),M17+1,M17))) -> 0 | O17: =IF(O15="NO",0,(IF(AND(O15="YES",O16="NO"),N17+1,N17))) -> 0 | P17: =IF(P15="NO",0,(IF(AND(P15="YES",P16="NO"),O17+1,O17))) -> 1 | Q17: =IF(Q15="NO",0,(IF(AND(Q15="YES",Q16="NO"),P17+1,P17))) -> 2 | R17: =IF(R15="NO",0,(IF(AND(R15="YES",R16="NO"),Q17+1,Q17))) -> 3 | S17: =IF(S15="NO",0,(IF(AND(S15="YES",S16="NO"),R17+1,R17))) -> 4 | T17: =IF(T15="NO",0,(IF(AND(T15="YES",T16="NO"),S17+1,S17))) -> 5 | ... AL17: =IF(AL15="NO",0,(IF(AND(AL15="YES",AL16="NO"),AK17+1,AK17))) -> 15 | AO17: =ROW() -> 17
B18: Tax in year shown, per ton of CO2 emitted | M18: =IF(Summary!$J78=1,MAX(0,$I$11*MIN(1,M17)+$I$12*(M17-1)),IF(M17=0,0,($I$11*(1+$I$12)^(M17-1)))) -> 0 | N18: =IF(Summary!$J78=1,MAX(0,$I$11*MIN(1,N17)+$I$12*(N17-1)),IF(N17=0,0,($I$11*(1+$I$12)^(N17-1)))) -> 0 | O18: =IF(Summary!$J78=1,MAX(0,$I$11*MIN(1,O17)+$I$12*(O17-1)),IF(O17=0,0,($I$11*(1+$I$12)^(O17-1)))) -> 0 | P18: =IF(Summary!$J78=1,MAX(0,$I$11*MIN(1,P17)+$I$12*(P17-1)),IF(P17=0,0,($I$11*(1+$I$12)^(P17-1)))) -> 10 | Q18: =IF(Summary!$J78=1,MAX(0,$I$11*MIN(1,Q17)+$I$12*(Q17-1)),IF(Q17=0,0,($I$11*(1+$I$12)^(Q17-1)))) -> 11 | R18: =IF(Summary!$J78=1,MAX(0,$I$11*MIN(1,R17)+$I$12*(R17-1)),IF(R17=0,0,($I$11*(1+$I$12)^(R17-1)))) -> 12.1 | S18: =IF(Summary!$J78=1,MAX(0,$I$11*MIN(1,S17)+$I$12*(S17-1)),IF(S17=0,0,($I$11*(1+$I$12)^(S17-1)))) -> 13.31 | T18: =IF(Summary!$J78=1,MAX(0,$I$11*MIN(1,T17)+$I$12*(T17-1)),IF(T17=0,0,($I$11*(1+$I$12)^(T17-1)))) -> 14.641 | ... AL18: =IF(Summary!$J78=1,MAX(0,$I$11*MIN(1,AL17)+$I$12*(AL17-1)),IF(AL17=0,0,($I$11*(1+$I$12)^(AL17-1)))) -> 37.974983 | AO18: =ROW() -> 18
B19: Tax in year shown, per metric ton of carbon dioxide emitted | M19: =M18*Parameters!$J$15/2000 -> 0 | N19: =N18*Parameters!$J$15/2000 -> 0 | O19: =O18*Parameters!$J$15/2000 -> 0 | P19: =P18*Parameters!$J$15/2000 -> 11.025 | Q19: =Q18*Parameters!$J$15/2000 -> 12.1275 | R19: =R18*Parameters!$J$15/2000 -> 13.34025 | S19: =S18*Parameters!$J$15/2000 -> 14.674275 | T19: =T18*Parameters!$J$15/2000 -> 16.141703 | ... AL19: =AL18*Parameters!$J$15/2000 -> 41.867419 | AO19: =ROW() -> 19
AO20: =ROW() -> 20
B21: U.S. Consumption of Fossil Fuels by Major Category, Quads per year (1 Quad = 1015 Btu) | K21: =K7 -> 2007 | L21: =L7 -> 2008 | M21: =M7 -> 2009 | N21: =N7 -> 2010 | AO21: =ROW() -> 21
B22: Total Fossil Fuel Consumption, Quads | H22: Source: mer_data, T01.03 | M22: 78.415496 | N22: 81.523087 | AO22: =ROW() -> 22
B23: Fossil Fuels Consumed to Make Electricity, Quads | H23: Source for data in these four rows is 'Emissions' worksheet tab, with CO2 emissions in metric tons converted to fuel units (quads) via conversion factors in the individual-sector worksheet tabs. | M23: =Emissions!L213 -> 28.29662 | N23: =Emissions!M213 -> 29.793983 | AO23: =ROW() -> 23
B24: Fossil Fuels Consumed for Personal Ground Travel, Quads | M24: =((Emissions!K102*1000000*1000000)/(Emissions!J182*Parameters!$J$14)*'Personal Ground Travel'!K22/1000000000000000) -> 17.228903 | N24: =M24*'Personal Ground Travel'!N31/'Personal Ground Travel'!M31 -> 17.221498 | AO24: =ROW() -> 24
B25: Fossil Fuels Consumed for Freight, Quads | M25: =((Emissions!K109*1000000*1000000)/(Emissions!J183*Parameters!$J$14)*Freight!K22/1000000000000000) -> 6.2019941 | N25: =M25*Freight!N31/Freight!M31 -> 6.4910491 | AO25: =ROW() -> 25
B26: Fossil Fuels Consumed for Aviation, Quads | M26: =((Emissions!K106*1000000*1000000)/(Emissions!J189*Parameters!$J$14)*Aviation!K22/1000000000000000) -> 2.7634796 | N26: =M26*Aviation!N31/Aviation!M31 -> 2.8377278 | AO26: =ROW() -> 26
B27: Fossil Fuels Consumed for Other, Quads | H27: =CONCATENATE("Calculated as Row ",AO22, " less sum of Rows ",AO23, "-",AO26, ".") -> Calculated as Row 22 less sum of Rows 23-26. | M27: =M22-SUM(M23:M26) -> 23.924499 | N27: =N22-SUM(N23:N26) -> 25.178829 | AO27: =ROW() -> 27
B28: Additional tax on 'other' fuel, cents/gallon, initial year (if surtax, beyond carbon tax) | J28: =(Summary!J89*IF(Summary!F95="YES",1,0))*(1000000)/'Personal Ground Travel'!$K$22 -> 47.972587 | K28: ¢/MMBtu | M28: =IF(Summary!$J78=1,MAX(0,$J$28*MIN(1,M17)+$J$29*(M17-1)),IF(M17=0,0,($J$28*(1+$J$29/100)^(M17-1)))) -> 0 | N28: =IF(Summary!$J78=1,MAX(0,$J$28*MIN(1,N17)+$J$29*(N17-1)),IF(N17=0,0,($J$28*(1+$J$29/100)^(N17-1)))) -> 0 | O28: =IF(Summary!$J78=1,MAX(0,$J$28*MIN(1,O17)+$J$29*(O17-1)),IF(O17=0,0,($J$28*(1+$J$29/100)^(O17-1)))) -> 0 | P28: =IF(Summary!$J78=1,MAX(0,$J$28*MIN(1,P17)+$J$29*(P17-1)),IF(P17=0,0,($J$28*(1+$J$29/100)^(P17-1)))) -> 47.972587 | Q28: =IF(Summary!$J78=1,MAX(0,$J$28*MIN(1,Q17)+$J$29*(Q17-1)),IF(Q17=0,0,($J$28*(1+$J$29/100)^(Q17-1)))) -> 52.769846 | R28: =IF(Summary!$J78=1,MAX(0,$J$28*MIN(1,R17)+$J$29*(R17-1)),IF(R17=0,0,($J$28*(1+$J$29/100)^(R17-1)))) -> 58.04683 | S28: =IF(Summary!$J78=1,MAX(0,$J$28*MIN(1,S17)+$J$29*(S17-1)),IF(S17=0,0,($J$28*(1+$J$29/100)^(S17-1)))) -> 63.851513 | T28: =IF(Summary!$J78=1,MAX(0,$J$28*MIN(1,T17)+$J$29*(T17-1)),IF(T17=0,0,($J$28*(1+$J$29/100)^(T17-1)))) -> 70.236665 | ... AL28: =IF(Summary!$J78=1,MAX(0,$J$28*MIN(1,AL17)+$J$29*(AL17-1)),IF(AL17=0,0,($J$28*(1+$J$29/100)^(AL17-1)))) -> 182.17582 | AO28: =ROW() -> 28
B29: Annual surtax increment, cents/gallon; OR Annual % growth | J29: =IF(Summary!J78=1,MAX(J28*I12/I11, 0.0001),Summary!J85*100*IF(Summary!F95="YES",1,0)) -> 10 | K29: =IF(Summary!$J$78=1,"¢/MMBtu","%") -> % | AO29: =ROW() -> 29
I30: 2005 | K30: =K7 -> 2007 | L30: =L7 -> 2008 | M30: =M7 -> 2009 | N30: =N7 -> 2010 | O30: =O7 -> 2011 | P30: =P7 -> 2012 | Q30: =Q7 -> 2013 | R30: =R7 -> 2014 | ... AL30: =AL7 -> 2034 | AO30: =ROW() -> 30
B31: CO2 emissions from "Other" sector, million metric tons | H31: =CONCATENATE("Copied from Emissions tab, Row ",Emissions!Q112, ".") -> Copied from Emissions tab, Row 112. | K31: =Emissions!I112 -> 1402.9477 | L31: =Emissions!J112 -> 1375.6543 | M31: =Emissions!K112 -> 1291.971 | AO31: =ROW() -> 31
B32: Implied CO2 emissions from "Other," pounds per million Btu | H32: =CONCATENATE("Row ",AO30, " divided by Row ",AO27, ", corrected for dimensions.") -> Row 30 divided by Row 27, corrected for dimensions. | M32: =(M31*1000000000000/Parameters!J17)/(M27*1000000000) -> 119.05405 | AO32: =ROW() -> 32
B33: For comparison: CO2 emissions from Personal Ground Travel, pounds per million Btu | M33: ='Personal Ground Travel'!K25*1000000/'Personal Ground Travel'!K22 -> 156.47407 | AO33: =ROW() -> 33
